BEGIN:VCALENDAR
PRODID:-//Department of Biochemistry and Molecular Biology//Events Calendar//EN
VERSION:2.0
CALSCALE:GREGORIAN
BEGIN:VEVENT
DTSTAMP:20260420T051300Z
DTSTART:20260504T173000Z
SUMMARY:Seminar
DESCRIPTION:Meghan Hamilton\nPhD Candidate (Bearne Laboratory)\, Department of Biochemistry & Molecular Biology\, Dalhousie University
URL:https://medicine.dal.ca/departments/department-sites/biochemistry-molecular-biology/news-events/seminars/2026/05/04/seminar.html
UID:https://medicine.dal.ca/departments/department-sites/biochemistry-molecular-biology/news-events/seminars/2026/05/04/seminar/_jcr_content/contentPar/dcalfacultyevent.html
END:VEVENT
END:VCALENDAR
