BEGIN:VCALENDAR
PRODID:-//Department of Biochemistry and Molecular Biology//Events Calendar//EN
VERSION:2.0
CALSCALE:GREGORIAN
BEGIN:VEVENT
DTSTAMP:20260421T174509Z
DTSTART:20260511T173000Z
SUMMARY:Seminar
DESCRIPTION:Hina Batool\nPhD Candidate (Rainey Laboratory)\, Department of Biochemistry & Molecular Biology\, Dalhousie University\n&\nMaegan Burke\nMSc Candidate (Davey & Langelaan Laboratories)\, Department of Biochemistry & Molecular Biology\, Dalhousie University
URL:https://medicine.dal.ca/departments/department-sites/biochemistry-molecular-biology/news-events/seminars/2026/05/11/seminar.html
UID:https://medicine.dal.ca/departments/department-sites/biochemistry-molecular-biology/news-events/seminars/2026/05/11/seminar/_jcr_content/contentPar/dcalfacultyevent.html
END:VEVENT
END:VCALENDAR
