BEGIN:VCALENDAR
PRODID:-//Department of Biochemistry and Molecular Biology//Events Calendar//EN
VERSION:2.0
CALSCALE:GREGORIAN
BEGIN:VEVENT
DTSTAMP:20260421T174504Z
DTSTART:20260525T173000Z
SUMMARY:Seminar
DESCRIPTION:Harish Kolla\nPhD Candidate (Pulinilkunnil Laboratory)\, Department of Biochemistry & Molecular Biology\, Dalhousie University\n&\nJason Shao\nMSc Candidate (Beiko & Roger Laboratories)\, Department of Biochemistry & Molecular Biology\, Dalhousie University
LOCATION:2L3\, 2L7 Tupper and DMNB 218 
URL:https://medicine.dal.ca/departments/department-sites/biochemistry-molecular-biology/news-events/seminars/2026/05/25/seminar.html
UID:https://medicine.dal.ca/departments/department-sites/biochemistry-molecular-biology/news-events/seminars/2026/05/25/seminar/_jcr_content/contentPar/dcalfacultyevent.html
END:VEVENT
END:VCALENDAR
