BEGIN:VCALENDAR
PRODID:-//Department of Biochemistry and Molecular Biology//Events Calendar//EN
VERSION:2.0
CALSCALE:GREGORIAN
BEGIN:VEVENT
DTSTAMP:20260421T230645Z
DTSTART:20260608T173000Z
SUMMARY:Seminar
DESCRIPTION:Dr. Larry Fliegel\nProfessor Emeritus\, Department of Biochemistry\, University of Alberta. Profile
URL:https://medicine.dal.ca/departments/department-sites/biochemistry-molecular-biology/news-events/seminars/2026/06/08/seminar.html
UID:https://medicine.dal.ca/departments/department-sites/biochemistry-molecular-biology/news-events/seminars/2026/06/08/seminar/_jcr_content/contentPar/dcalfacultyevent.html
END:VEVENT
END:VCALENDAR
